BEGIN:VCALENDAR
VERSION:2.0
PRODID:-//hacksw/handcal//NONSGML v1.0//EN
BEGIN:VEVENT
UID:13600
DTSTART;VALUE=DATE:20191231
URL;VALUE=URI:ohschonhell.at/?page_id=30255
SUMMARY:Switch! &amp\; Vienna Tun Up NYE
LOCATION:CAMERA CLUB
END:VEVENT
END:VCALENDAR


