BEGIN:VCALENDAR
VERSION:2.0
PRODID:-//hacksw/handcal//NONSGML v1.0//EN
BEGIN:VEVENT
UID:13611
DTSTART;VALUE=DATE:20191221
URL;VALUE=URI:ohschonhell.at/?page_id=30277
SUMMARY:ClassiX - Das Original - Xmas Special im Horst
LOCATION:HORST
END:VEVENT
END:VCALENDAR


