BEGIN:VCALENDAR
VERSION:2.0
PRODID:-//hacksw/handcal//NONSGML v1.0//EN
BEGIN:VEVENT
UID:13625
DTSTART;VALUE=DATE:20191220
URL;VALUE=URI:ohschonhell.at/?page_id=30307
SUMMARY:Im Salon mit Freunden + GDBBC // Rote Bar Closing
LOCATION:ROTE BAR
END:VEVENT
END:VCALENDAR


