BEGIN:VCALENDAR
VERSION:2.0
PRODID:-//hacksw/handcal//NONSGML v1.0//EN
BEGIN:VEVENT
UID:13631
DTSTART;VALUE=DATE:20191219
URL;VALUE=URI:ohschonhell.at/?page_id=30319
SUMMARY:MQ Hofmusik: Maraskino - Live &amp\; Eintritt frei!
LOCATION:MUSEUMSQUARTIER
END:VEVENT
END:VCALENDAR


