BEGIN:VCALENDAR
VERSION:2.0
PRODID:-//hacksw/handcal//NONSGML v1.0//EN
BEGIN:VEVENT
UID:13640
DTSTART;VALUE=DATE:20200102
URL;VALUE=URI:ohschonhell.at/?page_id=30366
SUMMARY:Donnerstag Nacht x ANANAS
LOCATION:SASS
END:VEVENT
END:VCALENDAR


