BEGIN:VCALENDAR
VERSION:2.0
PRODID:-//hacksw/handcal//NONSGML v1.0//EN
BEGIN:VEVENT
UID:13642
DTSTART;VALUE=DATE:20191225
URL;VALUE=URI:ohschonhell.at/?page_id=30370
SUMMARY:Bassline Xmas Special // Black Market Vienna
LOCATION:Black Market
END:VEVENT
END:VCALENDAR


