BEGIN:VCALENDAR
VERSION:2.0
PRODID:-//hacksw/handcal//NONSGML v1.0//EN
BEGIN:VEVENT
UID:13644
DTSTART;VALUE=DATE:20200101
URL;VALUE=URI:ohschonhell.at/?page_id=30374
SUMMARY:12 Stunden Neujahrsrambazamba!
LOCATION:Black Market
END:VEVENT
END:VCALENDAR


