BEGIN:VCALENDAR
VERSION:2.0
PRODID:-//hacksw/handcal//NONSGML v1.0//EN
BEGIN:VEVENT
UID:13658
DTSTART;VALUE=DATE:20200125
URL;VALUE=URI:ohschonhell.at/?page_id=30429
SUMMARY:Morning Glory | After Hour Vol 1
LOCATION:Black Market
END:VEVENT
END:VCALENDAR


