BEGIN:VCALENDAR
VERSION:2.0
PRODID:-//hacksw/handcal//NONSGML v1.0//EN
BEGIN:VEVENT
UID:13669
DTSTART;VALUE=DATE:20200110
URL;VALUE=URI:ohschonhell.at/?page_id=30455
SUMMARY:Vienna Coffee Beats | hosted by Radio Superfly
LOCATION:OTTAKRINGER BRAUEREI
END:VEVENT
END:VCALENDAR


