BEGIN:VCALENDAR
VERSION:2.0
PRODID:-//hacksw/handcal//NONSGML v1.0//EN
BEGIN:VEVENT
UID:13675
DTSTART;VALUE=DATE:20200103
URL;VALUE=URI:ohschonhell.at/?page_id=30469
SUMMARY:Drumworks at Black Market - 03.01.2020
LOCATION:Black Market
END:VEVENT
END:VCALENDAR


