BEGIN:VCALENDAR
VERSION:2.0
PRODID:-//hacksw/handcal//NONSGML v1.0//EN
BEGIN:VEVENT
UID:13680
DTSTART;VALUE=DATE:20191228
URL;VALUE=URI:ohschonhell.at/?page_id=30481
SUMMARY:✙✙ HORST is GAY ✙✙ presented by KEN &amp\; XY
LOCATION:HORST
END:VEVENT
END:VCALENDAR


