BEGIN:VCALENDAR
VERSION:2.0
PRODID:-//hacksw/handcal//NONSGML v1.0//EN
BEGIN:VEVENT
UID:13687
DTSTART;VALUE=DATE:20200131
URL;VALUE=URI:ohschonhell.at/?page_id=30514
SUMMARY:Friday w/ Wiener Mischung
LOCATION:Kramladen
END:VEVENT
END:VCALENDAR


