BEGIN:VCALENDAR
VERSION:2.0
PRODID:-//hacksw/handcal//NONSGML v1.0//EN
BEGIN:VEVENT
UID:13695
DTSTART;VALUE=DATE:20200125
URL;VALUE=URI:ohschonhell.at/?page_id=30533
SUMMARY:Nachtflug
LOCATION:Kramladen
END:VEVENT
END:VCALENDAR


