BEGIN:VCALENDAR
VERSION:2.0
PRODID:-//hacksw/handcal//NONSGML v1.0//EN
BEGIN:VEVENT
UID:13727
DTSTART;VALUE=DATE:20200110
URL;VALUE=URI:ohschonhell.at/?page_id=30615
SUMMARY:Vienna Underground Traxx Launch Party
LOCATION:OPERA CLUB
END:VEVENT
END:VCALENDAR


