BEGIN:VCALENDAR
VERSION:2.0
PRODID:-//hacksw/handcal//NONSGML v1.0//EN
BEGIN:VEVENT
UID:13735
DTSTART;VALUE=DATE:20200111
URL;VALUE=URI:ohschonhell.at/?page_id=30694
SUMMARY:Balkan to Bollywood Party
LOCATION:Fanialive
END:VEVENT
END:VCALENDAR


