BEGIN:VCALENDAR
VERSION:2.0
PRODID:-//hacksw/handcal//NONSGML v1.0//EN
BEGIN:VEVENT
UID:13737
DTSTART;VALUE=DATE:20200111
URL;VALUE=URI:ohschonhell.at/?page_id=30698
SUMMARY:Wiener Harmonie - make 6 positive - die erste Vereinigung
LOCATION:HORST
END:VEVENT
END:VCALENDAR


