BEGIN:VCALENDAR
VERSION:2.0
PRODID:-//hacksw/handcal//NONSGML v1.0//EN
BEGIN:VEVENT
UID:13738
DTSTART;VALUE=DATE:20200110
URL;VALUE=URI:ohschonhell.at/?page_id=30700
SUMMARY:Bassline DnB Special at Black Market 10.01.20
LOCATION:Black Market
END:VEVENT
END:VCALENDAR


