BEGIN:VCALENDAR
VERSION:2.0
PRODID:-//hacksw/handcal//NONSGML v1.0//EN
BEGIN:VEVENT
UID:13740
DTSTART;VALUE=DATE:20200112
URL;VALUE=URI:ohschonhell.at/?page_id=30704
SUMMARY:No Music. No Life. (Afterhour)
LOCATION:Black Market
END:VEVENT
END:VCALENDAR


