BEGIN:VCALENDAR
VERSION:2.0
PRODID:-//hacksw/handcal//NONSGML v1.0//EN
BEGIN:VEVENT
UID:13741
DTSTART;VALUE=DATE:20200131
URL;VALUE=URI:ohschonhell.at/?page_id=30707
SUMMARY:PSY Fusion by Distortion Rec.
LOCATION:Club Change
END:VEVENT
END:VCALENDAR


