BEGIN:VCALENDAR
VERSION:2.0
PRODID:-//hacksw/handcal//NONSGML v1.0//EN
BEGIN:VEVENT
UID:13750
DTSTART;VALUE=DATE:20200208
URL;VALUE=URI:ohschonhell.at/?page_id=30770
SUMMARY:Connecting People pres. Maximilian Foit&#039\;s Super Sweet 16 x 2
LOCATION:SASS
END:VEVENT
END:VCALENDAR


