BEGIN:VCALENDAR
VERSION:2.0
PRODID:-//hacksw/handcal//NONSGML v1.0//EN
BEGIN:VEVENT
UID:13767
DTSTART;VALUE=DATE:20200125
URL;VALUE=URI:ohschonhell.at/?page_id=30848
SUMMARY:███ Undrgrnd:002 ███ Medo / Ferdinand Hübl / Type Theory
LOCATION:Black Market
END:VEVENT
END:VCALENDAR


