BEGIN:VCALENDAR
VERSION:2.0
PRODID:-//hacksw/handcal//NONSGML v1.0//EN
BEGIN:VEVENT
UID:1377
DTSTART;VALUE=DATE:20140523
URL;VALUE=URI:ohschonhell.at/?page_id=3851
SUMMARY:Donnerstags`s Vinyl im Kiosk FREITAGS EDITION
LOCATION:KIOSK SCHLEIFMÜHLGASSE
END:VEVENT
END:VCALENDAR


