BEGIN:VCALENDAR
VERSION:2.0
PRODID:-//hacksw/handcal//NONSGML v1.0//EN
BEGIN:VEVENT
UID:13775
DTSTART;VALUE=DATE:20200418
URL;VALUE=URI:ohschonhell.at/?page_id=30868
SUMMARY:Marc Werner at Sass
LOCATION:SASS
END:VEVENT
END:VCALENDAR


