BEGIN:VCALENDAR
VERSION:2.0
PRODID:-//hacksw/handcal//NONSGML v1.0//EN
BEGIN:VEVENT
UID:13799
DTSTART;VALUE=DATE:20200201
URL;VALUE=URI:ohschonhell.at/?page_id=30924
SUMMARY:GÖnyl - Vinylmarkt im Elektro Gönner #2
LOCATION:ELEKTRO GÖNNER
END:VEVENT
END:VCALENDAR


