BEGIN:VCALENDAR
VERSION:2.0
PRODID:-//hacksw/handcal//NONSGML v1.0//EN
BEGIN:VEVENT
UID:1383
DTSTART;VALUE=DATE:20140621
URL;VALUE=URI:ohschonhell.at/?page_id=3861
SUMMARY:**TwentyFourPirates**  &gt\;&gt\;  24/7 records &amp\; Soundlab Pirates Night &lt\;&lt\;
LOCATION:CAMERA CLUB
END:VEVENT
END:VCALENDAR


