BEGIN:VCALENDAR
VERSION:2.0
PRODID:-//hacksw/handcal//NONSGML v1.0//EN
BEGIN:VEVENT
UID:13841
DTSTART;VALUE=DATE:20200208
URL;VALUE=URI:ohschonhell.at/?page_id=31029
SUMMARY:Astronaughty XXIV - Circuit Edition
LOCATION:CAMERA CLUB
END:VEVENT
END:VCALENDAR


