BEGIN:VCALENDAR
VERSION:2.0
PRODID:-//hacksw/handcal//NONSGML v1.0//EN
BEGIN:VEVENT
UID:13843
DTSTART;VALUE=DATE:20200208
URL;VALUE=URI:ohschonhell.at/?page_id=31033
SUMMARY:Insomnia w/ Käpt&#039\;n 12 &amp\; Düsentrieb\, Schnuppo &amp\; MataHari
LOCATION:Black Market
END:VEVENT
END:VCALENDAR


