BEGIN:VCALENDAR
VERSION:2.0
PRODID:-//hacksw/handcal//NONSGML v1.0//EN
BEGIN:VEVENT
UID:13876
DTSTART;VALUE=DATE:20200213
URL;VALUE=URI:ohschonhell.at/?page_id=31098
SUMMARY:Electric Curia ✩ hosted by PeaceSpirit
LOCATION:Heart Club
END:VEVENT
END:VCALENDAR


