BEGIN:VCALENDAR
VERSION:2.0
PRODID:-//hacksw/handcal//NONSGML v1.0//EN
BEGIN:VEVENT
UID:13879
DTSTART;VALUE=DATE:20200228
URL;VALUE=URI:ohschonhell.at/?page_id=31104
SUMMARY:Viennalizm
LOCATION:Kramladen
END:VEVENT
END:VCALENDAR


