BEGIN:VCALENDAR
VERSION:2.0
PRODID:-//hacksw/handcal//NONSGML v1.0//EN
BEGIN:VEVENT
UID:13889
DTSTART;VALUE=DATE:20200215
URL;VALUE=URI:ohschonhell.at/?page_id=31124
SUMMARY:Morning Glory Afterhour vol.2 | System Amore
LOCATION:Black Market
END:VEVENT
END:VCALENDAR


