BEGIN:VCALENDAR
VERSION:2.0
PRODID:-//hacksw/handcal//NONSGML v1.0//EN
BEGIN:VEVENT
UID:13898
DTSTART;VALUE=DATE:20200207
URL;VALUE=URI:ohschonhell.at/?page_id=31143
SUMMARY:FirleTanz #44 - Jade&amp\;Gold / The LLA / Zirkus Abnormal
LOCATION:Kramladen
END:VEVENT
END:VCALENDAR


