BEGIN:VCALENDAR
VERSION:2.0
PRODID:-//hacksw/handcal//NONSGML v1.0//EN
BEGIN:VEVENT
UID:1391
DTSTART;VALUE=DATE:20140528
URL;VALUE=URI:ohschonhell.at/?page_id=3869
SUMMARY:FM4 UNLIMITED PRESENTS -ROMAN RAUCH\, SAM IRL (Live)
LOCATION:OBEN
END:VEVENT
END:VCALENDAR


