BEGIN:VCALENDAR
VERSION:2.0
PRODID:-//hacksw/handcal//NONSGML v1.0//EN
BEGIN:VEVENT
UID:13932
DTSTART;VALUE=DATE:20200228
URL;VALUE=URI:ohschonhell.at/?page_id=31211
SUMMARY:Maschinenraum w/ Jerobeam Fenderson &amp\; Hansi3D LIVE | Fauna
LOCATION:VENSTER 99
END:VEVENT
END:VCALENDAR


