BEGIN:VCALENDAR
VERSION:2.0
PRODID:-//hacksw/handcal//NONSGML v1.0//EN
BEGIN:VEVENT
UID:13935
DTSTART;VALUE=DATE:20200221
URL;VALUE=URI:ohschonhell.at/?page_id=31217
SUMMARY:Techno Night w/ Chris Mare-S &amp\; Electricfence
LOCATION:Black Market
END:VEVENT
END:VCALENDAR


