BEGIN:VCALENDAR
VERSION:2.0
PRODID:-//hacksw/handcal//NONSGML v1.0//EN
BEGIN:VEVENT
UID:13936
DTSTART;VALUE=DATE:20200220
URL;VALUE=URI:ohschonhell.at/?page_id=31219
SUMMARY:Club der frühen Vögel X Roovestar
LOCATION:MON AMI
END:VEVENT
END:VCALENDAR


