BEGIN:VCALENDAR
VERSION:2.0
PRODID:-//hacksw/handcal//NONSGML v1.0//EN
BEGIN:VEVENT
UID:13951
DTSTART;VALUE=DATE:20201107
URL;VALUE=URI:ohschonhell.at/?page_id=31250
SUMMARY:Verschoben: FirleTanz #46 - Isoulate / Even If / Zirkus Abnormal
LOCATION:Kramladen
END:VEVENT
END:VCALENDAR


