BEGIN:VCALENDAR
VERSION:2.0
PRODID:-//hacksw/handcal//NONSGML v1.0//EN
BEGIN:VEVENT
UID:13954
DTSTART;VALUE=DATE:20200321
URL;VALUE=URI:ohschonhell.at/?page_id=31256
SUMMARY:KLANGBOUTIQUE w/ WagnerLove &amp\; Mannix | Sass Music Club
LOCATION:SASS
END:VEVENT
END:VCALENDAR


