BEGIN:VCALENDAR
VERSION:2.0
PRODID:-//hacksw/handcal//NONSGML v1.0//EN
BEGIN:VEVENT
UID:13979
DTSTART;VALUE=DATE:20200926
URL;VALUE=URI:ohschonhell.at/?page_id=31308
SUMMARY:LWZ w/ Stephan Licha b2b Emma Keks (BER) | Free Party
LOCATION:Kramladen
END:VEVENT
END:VCALENDAR


