BEGIN:VCALENDAR
VERSION:2.0
PRODID:-//hacksw/handcal//NONSGML v1.0//EN
BEGIN:VEVENT
UID:13988
DTSTART;VALUE=DATE:20200307
URL;VALUE=URI:ohschonhell.at/?page_id=31326
SUMMARY:███ Undrgrnd:004 ███ Sutter Cane / Echion / Type Theory
LOCATION:Black Market
END:VEVENT
END:VCALENDAR


