BEGIN:VCALENDAR
VERSION:2.0
PRODID:-//hacksw/handcal//NONSGML v1.0//EN
BEGIN:VEVENT
UID:13997
DTSTART;VALUE=DATE:20200321
URL;VALUE=URI:ohschonhell.at/?page_id=31344
SUMMARY:Duality III
LOCATION:DUAL
END:VEVENT
END:VCALENDAR


