BEGIN:VCALENDAR
VERSION:2.0
PRODID:-//hacksw/handcal//NONSGML v1.0//EN
BEGIN:VEVENT
UID:14001
DTSTART;VALUE=DATE:20220430
URL;VALUE=URI:ohschonhell.at/?page_id=31352
SUMMARY:1. Mai Rave '22: Day 1
LOCATION:Maria-Theresien-Platz
END:VEVENT
END:VCALENDAR


