BEGIN:VCALENDAR
VERSION:2.0
PRODID:-//hacksw/handcal//NONSGML v1.0//EN
BEGIN:VEVENT
UID:14006
DTSTART;VALUE=DATE:20200307
URL;VALUE=URI:ohschonhell.at/?page_id=31362
SUMMARY:Morning Glory | After Hour Vol 3
LOCATION:Black Market
END:VEVENT
END:VCALENDAR


