BEGIN:VCALENDAR
VERSION:2.0
PRODID:-//hacksw/handcal//NONSGML v1.0//EN
BEGIN:VEVENT
UID:14007
DTSTART;VALUE=DATE:20200306
URL;VALUE=URI:ohschonhell.at/?page_id=31364
SUMMARY:7 Jahre Monami
LOCATION:MON AMI
END:VEVENT
END:VCALENDAR


