BEGIN:VCALENDAR
VERSION:2.0
PRODID:-//hacksw/handcal//NONSGML v1.0//EN
BEGIN:VEVENT
UID:14019
DTSTART;VALUE=DATE:20200711
URL;VALUE=URI:ohschonhell.at/?page_id=31390
SUMMARY:Living Room X Birthday Bash
LOCATION:Club Change
END:VEVENT
END:VCALENDAR


