BEGIN:VCALENDAR
VERSION:2.0
PRODID:-//hacksw/handcal//NONSGML v1.0//EN
BEGIN:VEVENT
UID:14021
DTSTART;VALUE=DATE:20200627
URL;VALUE=URI:ohschonhell.at/?page_id=31394
SUMMARY:╰დ╮ॐ╭დ╯Trance Danubia by Deeprog╰დ╮ॐ╭დ╯
LOCATION:Club Change
END:VEVENT
END:VCALENDAR


