BEGIN:VCALENDAR
VERSION:2.0
PRODID:-//hacksw/handcal//NONSGML v1.0//EN
BEGIN:VEVENT
UID:1404
DTSTART;VALUE=DATE:20140530
URL;VALUE=URI:ohschonhell.at/?page_id=3893
SUMMARY:HAPPINESS [30|05|2014]
LOCATION:CHAYA FUERA
END:VEVENT
END:VCALENDAR


