BEGIN:VCALENDAR
VERSION:2.0
PRODID:-//hacksw/handcal//NONSGML v1.0//EN
BEGIN:VEVENT
UID:14053
DTSTART;VALUE=DATE:20200718
URL;VALUE=URI:ohschonhell.at/?page_id=31462
SUMMARY:Frühstück mit Niki b2b Oodo
LOCATION:Black Market
END:VEVENT
END:VCALENDAR


