BEGIN:VCALENDAR
VERSION:2.0
PRODID:-//hacksw/handcal//NONSGML v1.0//EN
BEGIN:VEVENT
UID:14059
DTSTART;VALUE=DATE:20200801
URL;VALUE=URI:ohschonhell.at/?page_id=31475
SUMMARY:The New (Ab)Normal // Woche 11
LOCATION:Black Market
END:VEVENT
END:VCALENDAR


