BEGIN:VCALENDAR
VERSION:2.0
PRODID:-//hacksw/handcal//NONSGML v1.0//EN
BEGIN:VEVENT
UID:14070
DTSTART;VALUE=DATE:20200726
URL;VALUE=URI:ohschonhell.at/?page_id=31497
SUMMARY:Frühstück mit Lenz Rausch &amp\; Nexxtone (CH)
LOCATION:Black Market
END:VEVENT
END:VCALENDAR


