BEGIN:VCALENDAR
VERSION:2.0
PRODID:-//hacksw/handcal//NONSGML v1.0//EN
BEGIN:VEVENT
UID:14081
DTSTART;VALUE=DATE:20200818
URL;VALUE=URI:ohschonhell.at/?page_id=31525
SUMMARY:das techno cafe
LOCATION:Sauna Strand Klub
END:VEVENT
END:VCALENDAR


